BEGIN:VCALENDAR
VERSION:2.0
PRODID:-//Connecter Pour Grandir - ECPv6.15.20//NONSGML v1.0//EN
CALSCALE:GREGORIAN
METHOD:PUBLISH
X-ORIGINAL-URL:https://connecterpourgrandir.com
X-WR-CALDESC:Évènements pour Connecter Pour Grandir
REFRESH-INTERVAL;VALUE=DURATION:PT1H
X-Robots-Tag:noindex
X-PUBLISHED-TTL:PT1H
BEGIN:VTIMEZONE
TZID:America/Toronto
BEGIN:DAYLIGHT
TZOFFSETFROM:-0500
TZOFFSETTO:-0400
TZNAME:EDT
DTSTART:20250309T070000
END:DAYLIGHT
BEGIN:STANDARD
TZOFFSETFROM:-0400
TZOFFSETTO:-0500
TZNAME:EST
DTSTART:20251102T060000
END:STANDARD
BEGIN:DAYLIGHT
TZOFFSETFROM:-0500
TZOFFSETTO:-0400
TZNAME:EDT
DTSTART:20260308T070000
END:DAYLIGHT
BEGIN:STANDARD
TZOFFSETFROM:-0400
TZOFFSETTO:-0500
TZNAME:EST
DTSTART:20261101T060000
END:STANDARD
BEGIN:DAYLIGHT
TZOFFSETFROM:-0500
TZOFFSETTO:-0400
TZNAME:EDT
DTSTART:20270314T070000
END:DAYLIGHT
BEGIN:STANDARD
TZOFFSETFROM:-0400
TZOFFSETTO:-0500
TZNAME:EST
DTSTART:20271107T060000
END:STANDARD
END:VTIMEZONE
BEGIN:VEVENT
DTSTART;TZID=America/Toronto:20261009T100000
DTEND;TZID=America/Toronto:20261009T120000
DTSTAMP:20260420T170054
CREATED:20260302T053158Z
LAST-MODIFIED:20260302T053158Z
UID:2294-1791540000-1791547200@connecterpourgrandir.com
SUMMARY:Réseautage 09 Octobre 2026
DESCRIPTION:Rencontrer des Leaders de l’Industrie : Apprenez des Meilleurs\nLes conseils d’experts\, fondés sur leur propre expérience\, nous guident non seulement dans la prise de décision mais également dans le développement de notre résilience face à l’adversité.
URL:https://connecterpourgrandir.com/event/reseautage-09-octobre-2026/
CATEGORIES:Événement en ligne,Réseautage
ATTACH;FMTTYPE=image/jpeg:https://connecterpourgrandir.com/wp-content/uploads/2024/11/hands-with-laptop-virtual-world.jpg
END:VEVENT
BEGIN:VEVENT
DTSTART;TZID=America/Toronto:20261016T100000
DTEND;TZID=America/Toronto:20261016T120000
DTSTAMP:20260420T170054
CREATED:20260302T055844Z
LAST-MODIFIED:20260302T055844Z
UID:2324-1792144800-1792152000@connecterpourgrandir.com
SUMMARY:Formation 16 Octobre 2026
DESCRIPTION:Boostez votre entreprise grâce à nos Formations collaboratives\nNos formations en ligne\, animées par les membres de Connecter Pour Grandir\, offrent bien plus qu’un simple transfert de connaissances : ce sont de véritables expériences d’apprentissage et de croissance partagée.
URL:https://connecterpourgrandir.com/event/formation-16-octobre-2026/
CATEGORIES:Événement en ligne,Formations
ATTACH;FMTTYPE=image/jpeg:https://connecterpourgrandir.com/wp-content/uploads/2024/11/hands-with-laptop-virtual-world.jpg
END:VEVENT
BEGIN:VEVENT
DTSTART;TZID=America/Toronto:20261023T100000
DTEND;TZID=America/Toronto:20261023T120000
DTSTAMP:20260420T170054
CREATED:20260302T053335Z
LAST-MODIFIED:20260302T053335Z
UID:2298-1792749600-1792756800@connecterpourgrandir.com
SUMMARY:Réseautage 23 Octobre 2026
DESCRIPTION:Rencontrer des Leaders de l’Industrie : Apprenez des Meilleurs\nLes conseils d’experts\, fondés sur leur propre expérience\, nous guident non seulement dans la prise de décision mais également dans le développement de notre résilience face à l’adversité.
URL:https://connecterpourgrandir.com/event/reseautage-23-octobre-2026/
CATEGORIES:Événement en ligne,Réseautage
ATTACH;FMTTYPE=image/jpeg:https://connecterpourgrandir.com/wp-content/uploads/2024/11/hands-with-laptop-virtual-world.jpg
END:VEVENT
END:VCALENDAR