BEGIN:VCALENDAR
VERSION:2.0
PRODID:-//Connecter Pour Grandir - ECPv6.15.20//NONSGML v1.0//EN
CALSCALE:GREGORIAN
METHOD:PUBLISH
X-WR-CALNAME:Connecter Pour Grandir
X-ORIGINAL-URL:https://connecterpourgrandir.com
X-WR-CALDESC:Évènements pour Connecter Pour Grandir
REFRESH-INTERVAL;VALUE=DURATION:PT1H
X-Robots-Tag:noindex
X-PUBLISHED-TTL:PT1H
BEGIN:VTIMEZONE
TZID:America/Toronto
BEGIN:DAYLIGHT
TZOFFSETFROM:-0500
TZOFFSETTO:-0400
TZNAME:EDT
DTSTART:20250309T070000
END:DAYLIGHT
BEGIN:STANDARD
TZOFFSETFROM:-0400
TZOFFSETTO:-0500
TZNAME:EST
DTSTART:20251102T060000
END:STANDARD
BEGIN:DAYLIGHT
TZOFFSETFROM:-0500
TZOFFSETTO:-0400
TZNAME:EDT
DTSTART:20260308T070000
END:DAYLIGHT
BEGIN:STANDARD
TZOFFSETFROM:-0400
TZOFFSETTO:-0500
TZNAME:EST
DTSTART:20261101T060000
END:STANDARD
BEGIN:DAYLIGHT
TZOFFSETFROM:-0500
TZOFFSETTO:-0400
TZNAME:EDT
DTSTART:20270314T070000
END:DAYLIGHT
BEGIN:STANDARD
TZOFFSETFROM:-0400
TZOFFSETTO:-0500
TZNAME:EST
DTSTART:20271107T060000
END:STANDARD
END:VTIMEZONE
BEGIN:VEVENT
DTSTART;TZID=America/Toronto:20260710T100000
DTEND;TZID=America/Toronto:20260710T120000
DTSTAMP:20260420T113454
CREATED:20260302T052540Z
LAST-MODIFIED:20260302T052540Z
UID:2278-1783677600-1783684800@connecterpourgrandir.com
SUMMARY:Réseautage 10 Juillet 2026
DESCRIPTION:Rencontrer des Leaders de l’Industrie : Apprenez des Meilleurs\nLes conseils d’experts\, fondés sur leur propre expérience\, nous guident non seulement dans la prise de décision mais également dans le développement de notre résilience face à l’adversité.
URL:https://connecterpourgrandir.com/event/reseautage-10-juillet-2026/
CATEGORIES:Événement en ligne,Réseautage
ATTACH;FMTTYPE=image/jpeg:https://connecterpourgrandir.com/wp-content/uploads/2024/11/hands-with-laptop-virtual-world.jpg
END:VEVENT
BEGIN:VEVENT
DTSTART;TZID=America/Toronto:20260717T100000
DTEND;TZID=America/Toronto:20260717T120000
DTSTAMP:20260420T113454
CREATED:20260302T055547Z
LAST-MODIFIED:20260302T055547Z
UID:2317-1784282400-1784289600@connecterpourgrandir.com
SUMMARY:Formation 17 juillet 2026
DESCRIPTION:Boostez votre entreprise grâce à nos Formations collaboratives\nNos formations en ligne\, animées par les membres de Connecter Pour Grandir\, offrent bien plus qu’un simple transfert de connaissances : ce sont de véritables expériences d’apprentissage et de croissance partagée.
URL:https://connecterpourgrandir.com/event/formation-17-juillet-2026/
CATEGORIES:Événement en ligne,Formations
ATTACH;FMTTYPE=image/jpeg:https://connecterpourgrandir.com/wp-content/uploads/2024/11/hands-with-laptop-virtual-world.jpg
END:VEVENT
BEGIN:VEVENT
DTSTART;TZID=America/Toronto:20260724T100000
DTEND;TZID=America/Toronto:20260724T120000
DTSTAMP:20260420T113454
CREATED:20260302T052657Z
LAST-MODIFIED:20260302T052657Z
UID:2285-1784887200-1784894400@connecterpourgrandir.com
SUMMARY:Réseautage 24 Juillet 2026
DESCRIPTION:Rencontrer des Leaders de l’Industrie : Apprenez des Meilleurs\nLes conseils d’experts\, fondés sur leur propre expérience\, nous guident non seulement dans la prise de décision mais également dans le développement de notre résilience face à l’adversité.
URL:https://connecterpourgrandir.com/event/reseautage-24-juillet-2026/
CATEGORIES:Événement en ligne,Réseautage
ATTACH;FMTTYPE=image/jpeg:https://connecterpourgrandir.com/wp-content/uploads/2024/11/hands-with-laptop-virtual-world.jpg
END:VEVENT
END:VCALENDAR