BEGIN:VCALENDAR
VERSION:2.0
PRODID:-//Connecter Pour Grandir - ECPv6.15.20//NONSGML v1.0//EN
CALSCALE:GREGORIAN
METHOD:PUBLISH
X-ORIGINAL-URL:https://connecterpourgrandir.com
X-WR-CALDESC:Évènements pour Connecter Pour Grandir
REFRESH-INTERVAL;VALUE=DURATION:PT1H
X-Robots-Tag:noindex
X-PUBLISHED-TTL:PT1H
BEGIN:VTIMEZONE
TZID:America/Toronto
BEGIN:DAYLIGHT
TZOFFSETFROM:-0500
TZOFFSETTO:-0400
TZNAME:EDT
DTSTART:20250309T070000
END:DAYLIGHT
BEGIN:STANDARD
TZOFFSETFROM:-0400
TZOFFSETTO:-0500
TZNAME:EST
DTSTART:20251102T060000
END:STANDARD
BEGIN:DAYLIGHT
TZOFFSETFROM:-0500
TZOFFSETTO:-0400
TZNAME:EDT
DTSTART:20260308T070000
END:DAYLIGHT
BEGIN:STANDARD
TZOFFSETFROM:-0400
TZOFFSETTO:-0500
TZNAME:EST
DTSTART:20261101T060000
END:STANDARD
BEGIN:DAYLIGHT
TZOFFSETFROM:-0500
TZOFFSETTO:-0400
TZNAME:EDT
DTSTART:20270314T070000
END:DAYLIGHT
BEGIN:STANDARD
TZOFFSETFROM:-0400
TZOFFSETTO:-0500
TZNAME:EST
DTSTART:20271107T060000
END:STANDARD
END:VTIMEZONE
BEGIN:VEVENT
DTSTART;TZID=America/Toronto:20260612T100000
DTEND;TZID=America/Toronto:20260612T120000
DTSTAMP:20260420T095340
CREATED:20260302T052437Z
LAST-MODIFIED:20260302T052437Z
UID:2279-1781258400-1781265600@connecterpourgrandir.com
SUMMARY:Réseautage 12 juin 2026
DESCRIPTION:Rencontrer des Leaders de l’Industrie : Apprenez des Meilleurs\nLes conseils d’experts\, fondés sur leur propre expérience\, nous guident non seulement dans la prise de décision mais également dans le développement de notre résilience face à l’adversité.
URL:https://connecterpourgrandir.com/event/reseautage-12-juin-2026/
CATEGORIES:Événement en ligne,Réseautage
ATTACH;FMTTYPE=image/jpeg:https://connecterpourgrandir.com/wp-content/uploads/2024/11/hands-with-laptop-virtual-world.jpg
END:VEVENT
BEGIN:VEVENT
DTSTART;TZID=America/Toronto:20260619T100000
DTEND;TZID=America/Toronto:20260619T120000
DTSTAMP:20260420T095340
CREATED:20260302T055524Z
LAST-MODIFIED:20260302T055524Z
UID:2313-1781863200-1781870400@connecterpourgrandir.com
SUMMARY:Formation 19 juin 2026
DESCRIPTION:Boostez votre entreprise grâce à nos Formations collaboratives\nNos formations en ligne\, animées par les membres de Connecter Pour Grandir\, offrent bien plus qu’un simple transfert de connaissances : ce sont de véritables expériences d’apprentissage et de croissance partagée.
URL:https://connecterpourgrandir.com/event/formation-19-juin-2026/
CATEGORIES:Événement en ligne,Formations
ATTACH;FMTTYPE=image/jpeg:https://connecterpourgrandir.com/wp-content/uploads/2024/11/hands-with-laptop-virtual-world.jpg
END:VEVENT
BEGIN:VEVENT
DTSTART;TZID=America/Toronto:20260626T100000
DTEND;TZID=America/Toronto:20260626T120000
DTSTAMP:20260420T095340
CREATED:20260302T052601Z
LAST-MODIFIED:20260302T052601Z
UID:2282-1782468000-1782475200@connecterpourgrandir.com
SUMMARY:Réseautage 26 juin 2026
DESCRIPTION:Rencontrer des Leaders de l’Industrie : Apprenez des Meilleurs\nLes conseils d’experts\, fondés sur leur propre expérience\, nous guident non seulement dans la prise de décision mais également dans le développement de notre résilience face à l’adversité.
URL:https://connecterpourgrandir.com/event/reseautage-26-juin-2026/
CATEGORIES:Événement en ligne,Réseautage
ATTACH;FMTTYPE=image/jpeg:https://connecterpourgrandir.com/wp-content/uploads/2024/11/hands-with-laptop-virtual-world.jpg
END:VEVENT
END:VCALENDAR