BEGIN:VCALENDAR
VERSION:2.0
PRODID:-//Connecter Pour Grandir - ECPv6.15.20//NONSGML v1.0//EN
CALSCALE:GREGORIAN
METHOD:PUBLISH
X-WR-CALNAME:Connecter Pour Grandir
X-ORIGINAL-URL:https://connecterpourgrandir.com
X-WR-CALDESC:Évènements pour Connecter Pour Grandir
REFRESH-INTERVAL;VALUE=DURATION:PT1H
X-Robots-Tag:noindex
X-PUBLISHED-TTL:PT1H
BEGIN:VTIMEZONE
TZID:America/Toronto
BEGIN:DAYLIGHT
TZOFFSETFROM:-0500
TZOFFSETTO:-0400
TZNAME:EDT
DTSTART:20250309T070000
END:DAYLIGHT
BEGIN:STANDARD
TZOFFSETFROM:-0400
TZOFFSETTO:-0500
TZNAME:EST
DTSTART:20251102T060000
END:STANDARD
BEGIN:DAYLIGHT
TZOFFSETFROM:-0500
TZOFFSETTO:-0400
TZNAME:EDT
DTSTART:20260308T070000
END:DAYLIGHT
BEGIN:STANDARD
TZOFFSETFROM:-0400
TZOFFSETTO:-0500
TZNAME:EST
DTSTART:20261101T060000
END:STANDARD
BEGIN:DAYLIGHT
TZOFFSETFROM:-0500
TZOFFSETTO:-0400
TZNAME:EDT
DTSTART:20270314T070000
END:DAYLIGHT
BEGIN:STANDARD
TZOFFSETFROM:-0400
TZOFFSETTO:-0500
TZNAME:EST
DTSTART:20271107T060000
END:STANDARD
END:VTIMEZONE
BEGIN:VEVENT
DTSTART;TZID=America/Toronto:20260417T100000
DTEND;TZID=America/Toronto:20260417T120000
DTSTAMP:20260421T102804
CREATED:20260302T051614Z
LAST-MODIFIED:20260302T051614Z
UID:2273-1776420000-1776427200@connecterpourgrandir.com
SUMMARY:Réseautage 17 Avril 2026
DESCRIPTION:Rencontrer des Leaders de l’Industrie : Apprenez des Meilleurs\nLes conseils d’experts\, fondés sur leur propre expérience\, nous guident non seulement dans la prise de décision mais également dans le développement de notre résilience face à l’adversité.
URL:https://connecterpourgrandir.com/event/reseautage-17-avril-2026/
CATEGORIES:Événement en ligne,Réseautage
ATTACH;FMTTYPE=image/jpeg:https://connecterpourgrandir.com/wp-content/uploads/2024/11/hands-with-laptop-virtual-world.jpg
END:VEVENT
BEGIN:VEVENT
DTSTART;TZID=America/Toronto:20260410T100000
DTEND;TZID=America/Toronto:20260410T120000
DTSTAMP:20260421T102804
CREATED:20260302T055249Z
LAST-MODIFIED:20260302T055249Z
UID:2312-1775815200-1775822400@connecterpourgrandir.com
SUMMARY:Formation 10 Avril 2026
DESCRIPTION:Boostez votre entreprise grâce à nos Formations collaboratives\nNos formations en ligne\, animées par les membres de Connecter Pour Grandir\, offrent bien plus qu’un simple transfert de connaissances : ce sont de véritables expériences d’apprentissage et de croissance partagée.
URL:https://connecterpourgrandir.com/event/formation-10-avril-2026/
CATEGORIES:Événement en ligne,Formations
ATTACH;FMTTYPE=image/jpeg:https://connecterpourgrandir.com/wp-content/uploads/2024/11/hands-with-laptop-virtual-world.jpg
END:VEVENT
BEGIN:VEVENT
DTSTART;TZID=America/Toronto:20260403T100000
DTEND;TZID=America/Toronto:20260403T120000
DTSTAMP:20260421T102804
CREATED:20260302T051519Z
LAST-MODIFIED:20260302T051519Z
UID:2271-1775210400-1775217600@connecterpourgrandir.com
SUMMARY:Réseautage 03 Avril 2026
DESCRIPTION:Rencontrer des Leaders de l’Industrie : Apprenez des Meilleurs\nLes conseils d’experts\, fondés sur leur propre expérience\, nous guident non seulement dans la prise de décision mais également dans le développement de notre résilience face à l’adversité.
URL:https://connecterpourgrandir.com/event/reseautage-03-avril-2026/
CATEGORIES:Événement en ligne,Réseautage
ATTACH;FMTTYPE=image/jpeg:https://connecterpourgrandir.com/wp-content/uploads/2024/11/hands-with-laptop-virtual-world.jpg
END:VEVENT
BEGIN:VEVENT
DTSTART;TZID=America/Toronto:20260320T100000
DTEND;TZID=America/Toronto:20260320T120000
DTSTAMP:20260421T102804
CREATED:20260226T212316Z
LAST-MODIFIED:20260226T212533Z
UID:2250-1774000800-1774008000@connecterpourgrandir.com
SUMMARY:Réseautage 20 Mars 2026
DESCRIPTION:Rencontrer des Leaders de l’Industrie : Apprenez des Meilleurs\nLes conseils d’experts\, fondés sur leur propre expérience\, nous guident non seulement dans la prise de décision mais également dans le développement de notre résilience face à l’adversité.
URL:https://connecterpourgrandir.com/event/reseautage-20-mars-2026/
CATEGORIES:Événement en ligne,Réseautage
ATTACH;FMTTYPE=image/jpeg:https://connecterpourgrandir.com/wp-content/uploads/2024/11/hands-with-laptop-virtual-world.jpg
END:VEVENT
BEGIN:VEVENT
DTSTART;TZID=America/Toronto:20260313T100000
DTEND;TZID=America/Toronto:20260313T120000
DTSTAMP:20260421T102804
CREATED:20260302T055037Z
LAST-MODIFIED:20260302T055037Z
UID:2307-1773396000-1773403200@connecterpourgrandir.com
SUMMARY:Formation 13 Mars 2026
DESCRIPTION:Boostez votre entreprise grâce à nos Formations collaboratives\nNos formations en ligne\, animées par les membres de Connecter Pour Grandir\, offrent bien plus qu’un simple transfert de connaissances : ce sont de véritables expériences d’apprentissage et de croissance partagée.
URL:https://connecterpourgrandir.com/event/formation-13-mars-2026/
CATEGORIES:Événement en ligne,Formations
ATTACH;FMTTYPE=image/jpeg:https://connecterpourgrandir.com/wp-content/uploads/2024/11/hands-with-laptop-virtual-world.jpg
END:VEVENT
BEGIN:VEVENT
DTSTART;TZID=America/Toronto:20260306T100000
DTEND;TZID=America/Toronto:20260306T120000
DTSTAMP:20260421T102804
CREATED:20260226T212150Z
LAST-MODIFIED:20260226T212336Z
UID:2248-1772791200-1772798400@connecterpourgrandir.com
SUMMARY:Réseautage 06 mars 2026
DESCRIPTION:Rencontrer des Leaders de l’Industrie : Apprenez des Meilleurs\nLes conseils d’experts\, fondés sur leur propre expérience\, nous guident non seulement dans la prise de décision mais également dans le développement de notre résilience face à l’adversité.
URL:https://connecterpourgrandir.com/event/reseautage-06-mars-2026/
CATEGORIES:Événement en ligne,Réseautage
ATTACH;FMTTYPE=image/jpeg:https://connecterpourgrandir.com/wp-content/uploads/2024/11/hands-with-laptop-virtual-world.jpg
END:VEVENT
BEGIN:VEVENT
DTSTART;TZID=America/Toronto:20260220T100000
DTEND;TZID=America/Toronto:20260220T120000
DTSTAMP:20260421T102804
CREATED:20260219T092630Z
LAST-MODIFIED:20260219T092630Z
UID:2202-1771581600-1771588800@connecterpourgrandir.com
SUMMARY:Réseautage 20 Fev 2026
DESCRIPTION:Rencontrer des Leaders de l’Industrie : Apprenez des Meilleurs\nLes conseils d’experts\, fondés sur leur propre expérience\, nous guident non seulement dans la prise de décision mais également dans le développement de notre résilience face à l’adversité.
URL:https://connecterpourgrandir.com/event/reseautage-20-fev-2026/
CATEGORIES:Événement en ligne,Réseautage
ATTACH;FMTTYPE=image/jpeg:https://connecterpourgrandir.com/wp-content/uploads/2024/11/hands-with-laptop-virtual-world.jpg
END:VEVENT
END:VCALENDAR